BEGIN:VCALENDAR
VERSION:2.0
PRODID:Events Booking
BEGIN:VEVENT
UID:69eb668d99d23
SUMMARY:Swissbau 2024
DESCRIPTION:Thema: BUILDING FUTURE TOGETHERTrends und Produktneuheiten für
  die Bau- und Immobilienwirtschaft
LOCATION:Messepl. 10\, 4058 Basel\, Schweiz
DTSTART:20240115T230000Z
DTEND:20240118T230000Z
DTSTAMP:20220513T075654Z
ORGANIZER;CN=IFMA Schweiz :MAILTO:admin@ifma.ch
GEO:47.564506;7.60214
X-APPLE-STRUCTURED-LOCATION;VALUE=URI;X-ADDRESS=Messepl. 10\, 4058 Basel\, 
 Schweiz;X-APPLE-RADIUS=72;X-TITLE=Basel\, Messe Basel Hallen:47.564506;7.6
 0214
END:VEVENT
END:VCALENDAR