BEGIN:VCALENDAR
VERSION:2.0
PRODID:Events Booking
BEGIN:VEVENT
UID:69e5308ba2715
SUMMARY:Instandhaltungstag 2018
DESCRIPTION:ACHTUNG vom Veranstalter fmpro gemäss Meldung 19.10.18 auf den
  5. Dezember verschoben.
LOCATION:Murtenstrasse 100\, 3008 Bern
DTSTART:20181023T111500Z
DTEND:20181023T163000Z
DTSTAMP:20260419T214411Z
ORGANIZER;CN=IFMA Schweiz :MAILTO:admin@ifma.ch
GEO:46.951434;7.413776
X-APPLE-STRUCTURED-LOCATION;VALUE=URI;X-ADDRESS=Murtenstrasse 100\, 3008 Be
 rn;X-APPLE-RADIUS=72;X-TITLE=Bern\, Energie Wasser Bern:46.951434;7.413776
END:VEVENT
END:VCALENDAR