BEGIN:VCALENDAR
VERSION:2.0
PRODID:Events Booking
BEGIN:VEVENT
UID:69e801eb1b51a
SUMMARY:IFMA Site Visit: 'PostParc und Welle 7'
DESCRIPTION:
 
 Erstes Betriebsjahr Präsentationen Post &amp\; Migros\, 
 Rundgang aus Sicht Eigentümer\, Betreiber und Nutzer.
 Detailprogramm
 
LOCATION:Bogenschützenstrasse 9\, 3008 Bern\, Schweiz
DTSTART:20171101T160000Z
DTEND:20171101T183000Z
DTSTAMP:20260422T010203Z
ORGANIZER;CN=IFMA Schweiz :MAILTO:admin@ifma.ch
GEO:46.948281;7.438013
X-APPLE-STRUCTURED-LOCATION;VALUE=URI;X-ADDRESS=Bogenschützenstrasse 9\, 3
 008 Bern\, Schweiz;X-APPLE-RADIUS=72;X-TITLE=Bern\, PostParc:46.948281;7.4
 38013
END:VEVENT
END:VCALENDAR