BEGIN:VCALENDAR
VERSION:2.0
PRODID:Events Booking
BEGIN:VEVENT
UID:69ea9c24b1df2
SUMMARY:IFMA Roadshow + Site Visit: Novartis Campus
DESCRIPTION:
 Programm folgt Termin wird verschoben\, daher keine Anmeldun
 g möglich 
LOCATION:Hauptporte - MainGate\, Fabrikstrasse 2\, 4056 Basel\, Schweiz
DTSTART:20230418T220000Z
DTEND:20230418T220000Z
DTSTAMP:20230313T084944Z
ORGANIZER;CN=IFMA Schweiz :MAILTO:admin@ifma.ch
GEO:47.571802;7.580631
X-APPLE-STRUCTURED-LOCATION;VALUE=URI;X-ADDRESS=Hauptporte - MainGate\, Fab
 rikstrasse 2\, 4056 Basel\, Schweiz;X-APPLE-RADIUS=72;X-TITLE=Novartis Cam
 pus Basel:47.571802;7.580631
END:VEVENT
END:VCALENDAR