BEGIN:VCALENDAR
VERSION:2.0
PRODID:Events Booking
BEGIN:VEVENT
UID:69ea8d2e4f9d1
SUMMARY:IFMA Roadshow + Site Visit: Empa NEST
DESCRIPTION:
 Programm
 
 Bild: Roman Keller
 NEST ist das modulare For
 schungs- und Innovationsgebäude der beiden Schweizer Forschungsinstitute 
 Empa und Eawag.
 Die Veranstaltung beginnt mit einer einstündigen Führu
 ng durch das Gebäude. Anschliessend findet eine einstündige Präsentatio
 n und Erfahrungsaustausch zum ProLeMo 2021 statt. Ab 18:00 Uhr gibt es ein
 en Apéro.
LOCATION:Überlandstrasse 129\, 8600 Dübendorf\, Schweiz
DTSTART:20230525T140000Z
DTEND:20230525T170000Z
DTSTAMP:20230313T083515Z
ORGANIZER;CN=IFMA Schweiz :MAILTO:admin@ifma.ch
GEO:47.402243;8.612034
X-APPLE-STRUCTURED-LOCATION;VALUE=URI;X-ADDRESS=Überlandstrasse 129\, 8600
  Dübendorf\, Schweiz;X-APPLE-RADIUS=72;X-TITLE=Dübendorf\, NEST:47.40224
 3;8.612034
END:VEVENT
END:VCALENDAR