BEGIN:VCALENDAR
VERSION:2.0
PRODID:Events Booking
BEGIN:VEVENT
UID:69e803472dea1
SUMMARY:IFMA Meets: Projekt ProLeMo+
DESCRIPTION:Projekt ProLeMo+ wird vorgestellt.
 Voravis unserer neuen Vera
 nstaltungsreihe mit monatlichen online Events.
LOCATION:Zürich\, Schweiz
DTSTART:20210112T150000Z
DTEND:20210112T170000Z
DTSTAMP:20260422T010751Z
ORGANIZER;CN=IFMA Schweiz :MAILTO:admin@ifma.ch
GEO:47.376887;8.541694
X-APPLE-STRUCTURED-LOCATION;VALUE=URI;X-ADDRESS=Zürich\, Schweiz;X-APPLE-R
 ADIUS=72;X-TITLE=online:47.376887;8.541694
END:VEVENT
END:VCALENDAR