BEGIN:VCALENDAR
VERSION:2.0
PRODID:Events Booking
BEGIN:VEVENT
UID:69e7f3bf67c59
SUMMARY:IFMA Meets: Workplace experience
DESCRIPTION:&gt\;&gt\;&gt\; Programm
 Workplace Experience wird in vielen 
 Diskussionen als der Schlüssel für die Gestaltung und den Betrieb von Ar
 beitsumgebungen der Zukunft angesehen. Am Webinar wird ein Workplace Exper
 ience Framework vorgestellt\, welches Verantwortlichen helfen soll\, das P
 hänomen in Bezug auf Arbeitsplatzumgebungen und dazugehörigen Services z
 u verstehen und in der eigenen Praxis gezielt zu steuern. Der Workplace-Be
 trieb rückt dabei als Service-Dimension in den Fokus und ergänzt das ehe
 r klassische Thema der Infrastruktur.
 Webinar mit Prof. Dr. Lukas Windli
 nger und Stefanie Lange\, Moderation Dr. Simon Ashworth
 Einen Tag vor de
 m Webinar erhalten Sie einen Aktivierungslink für Zoom.
 
LOCATION:Zürich\, Schweiz
DTSTART:20210923T150000Z
DTEND:20210923T160000Z
DTSTAMP:20260422T000135Z
ORGANIZER;CN=IFMA Schweiz :MAILTO:admin@ifma.ch
GEO:47.376887;8.541694
X-APPLE-STRUCTURED-LOCATION;VALUE=URI;X-ADDRESS=Zürich\, Schweiz;X-APPLE-R
 ADIUS=72;X-TITLE=online:47.376887;8.541694
END:VEVENT
END:VCALENDAR