BEGIN:VCALENDAR
VERSION:2.0
PRODID:Events Booking
BEGIN:VEVENT
UID:69ea7a96a82ef
SUMMARY:IFMA Meets FM goes DIGI
DESCRIPTION:Programm
 Das Webinar befasst sich mit den \"Schweizer\" Ergeb
 nissen einer internationalen Studie\, die im Rahmen des von der EU finanzi
 erten Projekts FMgoesDIGI durchgeführt wurde. Neben den sich abzeichnende
 n digitalen Trends\, die den grössten Einfluss auf die FM-Branche haben k
 önnten\, werden am Webinar folgende Themen behandelt:
 
 die aktuelle W
 ahrnehmung der Relevanz digitaler Technologien für die FM-Branche
 die B
 ewusstseinslücken zwischen den verschiedenen Akteuren
 die Frage\, wie d
 ie FM-Fachleute geschult und ausgebildet werden müssen\, um die kommenden
  Anforderungen der Digitalisierung zu erfüllen.
 
 Referent Prof. Dr. K
 laus Homann\, Moderation Simon Ashworth\, ZHAWEinleitung Isabelle Wrase\, 
 Co-Präsidentin IFMA
LOCATION:Zürich\, Schweiz
DTSTART:20230209T153000Z
DTEND:20230209T163000Z
DTSTAMP:20221031T111701Z
ORGANIZER;CN=IFMA Schweiz :MAILTO:admin@ifma.ch
GEO:47.376887;8.541694
X-APPLE-STRUCTURED-LOCATION;VALUE=URI;X-ADDRESS=Zürich\, Schweiz;X-APPLE-R
 ADIUS=72;X-TITLE=online:47.376887;8.541694
END:VEVENT
END:VCALENDAR