BEGIN:VCALENDAR
VERSION:2.0
PRODID:Events Booking
BEGIN:VEVENT
UID:69e7aa2505eb4
SUMMARY:Generalversammlung IFMA Schweiz 2016
DESCRIPTION:&nbsp\;
 &nbsp\;
 &nbsp\;
 Unsere Generalversammlung findet 
 im FIFA World Football Museum beim Bahnhof Zürich-Enge statt
 ab 15.45h 
 Eintreffen der Gäste16.15-17.45h Statuarischer Teil17.45-18.00h Begrüssu
 ng Stefan Jost18.00-19.00h FIFA Museum Führung19.00-20.00h Apéro und Net
 working
 Wir bitten um Anmeldung mittels grauem Button unten.
 Abmeldung
  hier
LOCATION:Seestrasse 27\, 8002 Zürich\, Schweiz
DTSTART:20160831T134500Z
DTEND:20160831T180000Z
DTSTAMP:20260421T184733Z
ORGANIZER;CN=IFMA Schweiz :MAILTO:admin@ifma.ch
GEO:47.363335;8.531703
X-APPLE-STRUCTURED-LOCATION;VALUE=URI;X-ADDRESS=Seestrasse 27\, 8002 Züric
 h\, Schweiz;X-APPLE-RADIUS=72;X-TITLE=Zürich\, FIFA World Football Museum
 :47.363335;8.531703
END:VEVENT
END:VCALENDAR