BEGIN:VCALENDAR
VERSION:2.0
PRODID:Events Booking
BEGIN:VEVENT
UID:69ea8d2e4f9dd
SUMMARY:IFMA Expert Talk: optimisation de l'exploitation et contrôle de l'
 énergie 
DESCRIPTION:
 Toutes les entreprises sont constamment mises au défi d’o
 ptimiser leurs processus. La difficulté existe quand on désire optimiser
  l’exploitation et contrôler ses énergies\, notamment\, de restreindre
  au maximum l’utilisation des ressources nécessaires à son activité.
 
 
 Quels est son intégration dans l’environnement d’une entreprise 
 ?
 Quels est sont les optimisations d’exploitation dans l’environneme
 nt d’une entreprise ?
 Quels sont les exemples réussis de cette optimi
 sation et contrôle de l’énergie ?
 Quelles sont les évolutions à ve
 nir ?
 
 Programme
 
LOCATION:Zürich\, Schweiz
DTSTART:20230427T100000Z
DTEND:20230427T103000Z
DTSTAMP:20260423T232046Z
ORGANIZER;CN=IFMA Schweiz :MAILTO:admin@ifma.ch
GEO:47.376887;8.541694
X-APPLE-STRUCTURED-LOCATION;VALUE=URI;X-ADDRESS=Zürich\, Schweiz;X-APPLE-R
 ADIUS=72;X-TITLE=online:47.376887;8.541694
END:VEVENT
END:VCALENDAR