BEGIN:VCALENDAR
VERSION:2.0
PRODID:Events Booking
BEGIN:VEVENT
UID:69e730428da9c
SUMMARY:GNI-Generalversammlung
DESCRIPTION:Die nächste Generalversammlung der GNI wird&nbsp\;&nbsp\; wied
 er&nbsp\;&nbsp\; in&nbsp\;&nbsp\; Bern&nbsp\;&nbsp\; stattfinden.&nbsp\;&n
 bsp\; Die&nbsp\;&nbsp\; Teilnehmer&nbsp\;&nbsp\; haben&nbsp\;&nbsp\; die G
 elegenheit den&nbsp\; Besuch&nbsp\; der&nbsp\; GV&nbsp\; mit&nbsp\; dem&nb
 sp\; Besuch&nbsp\; der&nbsp\; ELECTRO-TEC zu kombinieren.
LOCATION:Mingerstrasse 6\, 3014 Bern\, Schweiz
DTSTART:20180523T140000Z
DTEND:20180523T160000Z
DTSTAMP:20260421T100730Z
ORGANIZER;CN=IFMA Schweiz :MAILTO:admin@ifma.ch
GEO:46.959338;7.467063
X-APPLE-STRUCTURED-LOCATION;VALUE=URI;X-ADDRESS=Mingerstrasse 6\, 3014 Bern
 \, Schweiz;X-APPLE-RADIUS=72;X-TITLE=Bern\, BEA Expo Bern:46.959338;7.4670
 63
END:VEVENT
END:VCALENDAR