BEGIN:VCALENDAR
VERSION:2.0
PRODID:Events Booking
BEGIN:VEVENT
UID:69e7e43c6f430
SUMMARY:Get Together Zentralschweiz
DESCRIPTION:Je nach Situation und aufgrund eurem Feedback findet es in eine
 m Restaurant oder online statt. Die Einladung wird wie gewohnt per Outlook
  zugestellt. Gäste sind herzlich willkommen.
 Bitte melden bei daniela.b
 ruehwiler@ifma.ch
 &nbsp\;
LOCATION:Zürich\, Schweiz
DTSTART:20200623T163000Z
DTEND:20200623T171500Z
DTSTAMP:20260421T225524Z
ORGANIZER;CN=IFMA Schweiz :MAILTO:admin@ifma.ch
GEO:47.376887;8.541694
X-APPLE-STRUCTURED-LOCATION;VALUE=URI;X-ADDRESS=Zürich\, Schweiz;X-APPLE-R
 ADIUS=72;X-TITLE=online:47.376887;8.541694
END:VEVENT
END:VCALENDAR