BEGIN:VCALENDAR
VERSION:2.0
PRODID:Events Booking
BEGIN:VEVENT
UID:69ea0bff539ed
SUMMARY:Get Together Zentralschweiz
DESCRIPTION:
 &nbsp\;
 Ungezwungenes «get together» in der Mall of Swit
 zerland
 Der Betreiber Bouygues wird uns einen praktischen Einblick in se
 ine digitalen Betriebsprozesse geben. Im Anschluss haben wir Zeit für uns
 eren Austausch bei einem Drink in einem der Restaurants.
 Treffpunkt: 18.
 05 Uhr beim Infopoint Anmeldung: daniela.bruehwiler@ifma.ch
LOCATION:Ebisquare-Strasse 1\, 6030 Ebikon\, Schweiz
DTSTART:20180425T160000Z
DTEND:20180425T183000Z
DTSTAMP:20260423T140935Z
ORGANIZER;CN=IFMA Schweiz :MAILTO:admin@ifma.ch
GEO:47.093767;8.358586
X-APPLE-STRUCTURED-LOCATION;VALUE=URI;X-ADDRESS=Ebisquare-Strasse 1\, 6030 
 Ebikon\, Schweiz;X-APPLE-RADIUS=72;X-TITLE=Ebikon\, Mall of Switzerland:47
 .093767;8.358586
END:VEVENT
END:VCALENDAR