BEGIN:VCALENDAR
VERSION:2.0
PRODID:Events Booking
BEGIN:VEVENT
UID:69e7c6955c21b
SUMMARY:Get Together Zentralschweiz
DESCRIPTION:
 &nbsp\;
 In lockerer Atmosphäre bei einem Glas Wein oder B
 ier sich über die beruflichen Herausforderungen austauschen. Gäste sind 
 herzlich willkommen.
 Anmeldung: daniela.bruehwiler@ifma.ch
LOCATION:Lakefront Centre\, Inseliquai 12\, 6005 Luzern\, Schweiz
DTSTART:20171212T170000Z
DTEND:20171212T193000Z
DTSTAMP:20260421T204853Z
ORGANIZER;CN=IFMA Schweiz :MAILTO:admin@ifma.ch
GEO:47.047939;8.313668
X-APPLE-STRUCTURED-LOCATION;VALUE=URI;X-ADDRESS=Lakefront Centre\, Inseliqu
 ai 12\, 6005 Luzern\, Schweiz;X-APPLE-RADIUS=72;X-TITLE=Luzern\, Hotel Rad
 isson Blue:47.047939;8.313668
END:VEVENT
END:VCALENDAR