BEGIN:VCALENDAR
VERSION:2.0
PRODID:Events Booking
BEGIN:VEVENT
UID:69e73ad71225c
SUMMARY:Architektur und Energie Reise nach Frankfurt am Main
DESCRIPTION:Folgende Highlights erwarten Sie an diesen zwei Tagen (Änderun
 gen vorbehalten\, Stand: 19.02.2018):
 
 Comerzbank Tower\, Lord Norman 
 Foster Architekten
 Neuer Stadtteil Riedberg mit Plusenergiebauten sowie 
 Entwicklungsgebiet Westhafen
 Aktiv-Stadthaus der städtischen ABG Frankf
 urt Holding (präsentiert an mehreren FEZ ENERGIE Events)
 Diverse weiter
 e Häuser in Aktiv- und Passivbauweise (Grünflächenamt\, Evangelische Ak
 ademie\, ...)
 &nbsp\;DomRömer: Rekonstruktion eines ganzen historischen
  Altstadtkerns
 &nbsp\;Spaziergang zur Stadtentwicklung am Mainufer sowie
  durch die Innen- und Altstadt
 Austausch mit Vertretern des Energierefer
 ats Frankfurt
 
DTSTART:20180622T060000Z
DTEND:20180623T170000Z
DTSTAMP:20260421T105239Z
ORGANIZER;CN=IFMA Schweiz :MAILTO:admin@ifma.ch
END:VEVENT
END:VCALENDAR