BEGIN:VCALENDAR
VERSION:2.0
PRODID:Events Booking
BEGIN:VEVENT
UID:69e7e40d75acb
SUMMARY:23. IFMA Generalversammlung
DESCRIPTION:Detailprogramm
 Unsere diesjährige Generalversammlung führt 
 an einen spannenden Ort. Im Balgrist Campus wird interdisziplinär an Lös
 ungen geforscht und die Patienten mit Erkrankungen und Verletzungen des Be
 wegungsapparats geben direkt Feedback ob sich die Entwicklungen und Ideen 
 bewähren.
 Wie gewohnt erfolgt zuerst die reguläre Generalversammlung a
 b 16h. Im Anschluss ab 17.30h hören wir ein Referat von Frau Caroline Sci
 ullo\, Geschäftsführerin Balgrist Campus zum Thema&nbsp\;«Balgrist Camp
 us – Forschungsinfrastruktur von nationaler Bedeutung» und können absc
 hliessend den architektonisch innovativen Bau besichtigen.
 Bitte beachte
 n Sie auf dem Spitalareal herrscht Maskenpflicht. Benutzen Sie den Hauptei
 ngang auf der Forchstrasse 340 von da aus ist der Weg ausgeschildert.
 Pa
 rking: bitte Lengghalde ins Navitagionsgerät eingeben.
 
LOCATION:Forchstrasse 340\, 8008 Zürich\, Schweiz
DTSTART:20200826T134500Z
DTEND:20200826T173000Z
DTSTAMP:20260421T225437Z
ORGANIZER;CN=IFMA Schweiz :MAILTO:admin@ifma.ch
GEO:47.352138;8.574386
X-APPLE-STRUCTURED-LOCATION;VALUE=URI;X-ADDRESS=Forchstrasse 340\, 8008 Zü
 rich\, Schweiz;X-APPLE-RADIUS=72;X-TITLE=Zürich Balgrist Campus:47.352138
 ;8.574386
END:VEVENT
END:VCALENDAR